BEGIN:VCALENDAR
VERSION:2.0
PRODID:-//Villaggio del Sole - ECPv5.0.3.1//NONSGML v1.0//EN
CALSCALE:GREGORIAN
METHOD:PUBLISH
X-WR-CALNAME:Villaggio del Sole
X-ORIGINAL-URL:https://www.villaggiodelsole.org
X-WR-CALDESC:Eventi per Villaggio del Sole
BEGIN:VTIMEZONE
TZID:UTC
BEGIN:STANDARD
TZOFFSETFROM:+0000
TZOFFSETTO:+0000
TZNAME:UTC
DTSTART:20210101T000000
END:STANDARD
END:VTIMEZONE
BEGIN:VEVENT
DTSTART;TZID=UTC:20211213T090000
DTEND;TZID=UTC:20211219T190000
DTSTAMP:20260422T081553
CREATED:20211115T214611Z
LAST-MODIFIED:20211214T221237Z
UID:2043-1639386000-1639940400@www.villaggiodelsole.org
SUMMARY:Attività settimana 13-19 Dicembre 2021
DESCRIPTION:\n\n\n\n\nATTIVITA’ del Gruppo “Liberi tutti! Sinergie per la nuova era!”\nIl gruppo ha come scopo l’incontro tra persone libere e sane di mente\, al fine di vivere incontri e attività per grandi e piccini in un salutare e reale mondo parallelo\, lontano da interfacce digitali o sanitarie tra l’individuo e la realtà.\n\nSettimana 13-19 Dicembre 2021 al Villaggio del sole.\nAperti a tutti telefonando per info e prenotazioni al 3207511457 oppure 3669502015.\n\n\n\nLUNEDI: ore 17.30 Meditazione con Francesca; ore 18.30 YOGA Ratna con Francesca (solo yoga 10\, meditazione e yoga 12\, solo meditazione 8.)\n\n\n\nMARTEDI: ore 18.30 Meditazione Kundalini (Osho) (5 euro a partecipante) aperta a tutti!\n\n\n\n\n\n\n\n\n\nSABATO: ore 11.00 TESSUTI (Circo) con Olivia Staff\, per ragazzi e bambini (contributo 10 a partecipante).\n\n\n\nDOMENICA: ore 10.00 (bis!) TESSUTI (Circo) con Olivia Staff per ragazzi e bambini (contributo 10 a partecipante).\n\nVi aspettiamo come sempre numerosi\, gioiosi e… LIBERI!!\n\n(NB: L’APERICENA RIPRENDERA’ DA GENNAIO)\n\n\n\n\n
URL:https://www.villaggiodelsole.org/evento/2043/
ATTACH;FMTTYPE=image/jpeg:https://www.villaggiodelsole.org/wp-content/uploads/2021/05/archetipi-femminili-dee-greche.jpg
END:VEVENT
END:VCALENDAR