BEGIN:VCALENDAR
VERSION:2.0
PRODID:-//Villaggio del Sole - ECPv5.0.3.1//NONSGML v1.0//EN
CALSCALE:GREGORIAN
METHOD:PUBLISH
X-WR-CALNAME:Villaggio del Sole
X-ORIGINAL-URL:https://www.villaggiodelsole.org
X-WR-CALDESC:Eventi per Villaggio del Sole
BEGIN:VTIMEZONE
TZID:UTC
BEGIN:STANDARD
TZOFFSETFROM:+0000
TZOFFSETTO:+0000
TZNAME:UTC
DTSTART:20220101T000000
END:STANDARD
END:VTIMEZONE
BEGIN:VEVENT
DTSTART;TZID=UTC:20220816T090000
DTEND;TZID=UTC:20220820T190000
DTSTAMP:20260420T134542
CREATED:20220719T122949Z
LAST-MODIFIED:20220719T125113Z
UID:2530-1660640400-1661022000@www.villaggiodelsole.org
SUMMARY:Accoglienza Giornaliera Naturista
DESCRIPTION:TUTTA LA SETTIMANA! Aperto tutti i giorni della settimana per la tua giornata di relax oppure per la tua settimana di vacanza! Chiama per info e prenotazioni al 334 7669278! \n
URL:https://www.villaggiodelsole.org/evento/accoglienza-giornaliera-naturista-8/
ATTACH;FMTTYPE=image/jpeg:https://www.villaggiodelsole.org/wp-content/uploads/2022/07/Davide_bosco.jpg
END:VEVENT
END:VCALENDAR