BEGIN:VCALENDAR
VERSION:2.0
PRODID:-//Villaggio del Sole - ECPv5.0.3.1//NONSGML v1.0//EN
CALSCALE:GREGORIAN
METHOD:PUBLISH
X-WR-CALNAME:Villaggio del Sole
X-ORIGINAL-URL:https://www.villaggiodelsole.org
X-WR-CALDESC:Eventi per Villaggio del Sole
BEGIN:VTIMEZONE
TZID:UTC
BEGIN:STANDARD
TZOFFSETFROM:+0000
TZOFFSETTO:+0000
TZNAME:UTC
DTSTART:20220101T000000
END:STANDARD
END:VTIMEZONE
BEGIN:VEVENT
DTSTART;TZID=UTC:20220829T090000
DTEND;TZID=UTC:20220902T190000
DTSTAMP:20260420T121253
CREATED:20220815T145956Z
LAST-MODIFIED:20230725T163527Z
UID:3183-1661763600-1662145200@www.villaggiodelsole.org
SUMMARY:Daily Naturist welcome!
DESCRIPTION:ALL WEEK! Open every day of the week for your day of relaxation or for your week of vacation! Call for info and reservations on 334 7669278! \n
URL:https://www.villaggiodelsole.org/evento/accoglienza-naturista-giornaliera-2-2/
ATTACH;FMTTYPE=image/jpeg:https://www.villaggiodelsole.org/wp-content/uploads/2020/03/13.jpg
END:VEVENT
END:VCALENDAR