BEGIN:VCALENDAR
VERSION:2.0
PRODID:-//Villaggio del Sole - ECPv5.0.3.1//NONSGML v1.0//EN
CALSCALE:GREGORIAN
METHOD:PUBLISH
X-WR-CALNAME:Villaggio del Sole
X-ORIGINAL-URL:https://www.villaggiodelsole.org
X-WR-CALDESC:Eventi per Villaggio del Sole
BEGIN:VTIMEZONE
TZID:UTC
BEGIN:STANDARD
TZOFFSETFROM:+0000
TZOFFSETTO:+0000
TZNAME:UTC
DTSTART:20200101T000000
END:STANDARD
END:VTIMEZONE
BEGIN:VEVENT
DTSTART;TZID=UTC:20200712T114500
DTEND;TZID=UTC:20200712T121500
DTSTAMP:20260420T190645
CREATED:20200629T113059Z
LAST-MODIFIED:20200708T105617Z
UID:1219-1594554300-1594556100@www.villaggiodelsole.org
SUMMARY:Acquagym in piscina!
DESCRIPTION:DOMENICA. Divertimento e musica in acqua con la lezione di acquagym di Francesca! \n
URL:https://www.villaggiodelsole.org/evento/acquagym-in-piscina-2/
ATTACH;FMTTYPE=image/jpeg:https://www.villaggiodelsole.org/wp-content/uploads/2020/06/acquagym.jpg
END:VEVENT
END:VCALENDAR