BEGIN:VCALENDAR
VERSION:2.0
PRODID:-//Villaggio del Sole - ECPv5.0.3.1//NONSGML v1.0//EN
CALSCALE:GREGORIAN
METHOD:PUBLISH
X-WR-CALNAME:Villaggio del Sole
X-ORIGINAL-URL:https://www.villaggiodelsole.org
X-WR-CALDESC:Eventi per Villaggio del Sole
BEGIN:VTIMEZONE
TZID:UTC
BEGIN:STANDARD
TZOFFSETFROM:+0000
TZOFFSETTO:+0000
TZNAME:UTC
DTSTART:20220101T000000
END:STANDARD
END:VTIMEZONE
BEGIN:VEVENT
DTSTART;TZID=UTC:20220911T120000
DTEND;TZID=UTC:20220911T123000
DTSTAMP:20260420T104456
CREATED:20220909T102039Z
LAST-MODIFIED:20220909T102039Z
UID:2640-1662897600-1662899400@www.villaggiodelsole.org
SUMMARY:Acquagym in piscina
DESCRIPTION:ORE 12.00. Lezione di acquagym in piscina con Francesca. \n
URL:https://www.villaggiodelsole.org/evento/acquagym-in-piscina-28/
ATTACH;FMTTYPE=image/jpeg:https://www.villaggiodelsole.org/wp-content/uploads/2022/01/acquagym-naturist.jpg
END:VEVENT
END:VCALENDAR