BEGIN:VCALENDAR
VERSION:2.0
PRODID:-//Villaggio del Sole - ECPv5.0.3.1//NONSGML v1.0//EN
CALSCALE:GREGORIAN
METHOD:PUBLISH
X-WR-CALNAME:Villaggio del Sole
X-ORIGINAL-URL:https://www.villaggiodelsole.org
X-WR-CALDESC:Eventi per Villaggio del Sole
BEGIN:VTIMEZONE
TZID:UTC
BEGIN:STANDARD
TZOFFSETFROM:+0000
TZOFFSETTO:+0000
TZNAME:UTC
DTSTART:20220101T000000
END:STANDARD
END:VTIMEZONE
BEGIN:VEVENT
DTSTART;TZID=UTC:20220425T090000
DTEND;TZID=UTC:20220501T190000
DTSTAMP:20260422T060407
CREATED:20220418T214424Z
LAST-MODIFIED:20220418T214424Z
UID:2244-1650877200-1651431600@www.villaggiodelsole.org
SUMMARY:Attività 25 Aprile - 1 Maggio
DESCRIPTION:\nATTIVITA’ del Gruppo “Liberi tutti! Sinergie per la nuova era!” \nIl gruppo ha come scopo l’incontro tra persone libere e sane di mente\, al fine di vivere incontri e attività per grandi e piccini in un salutare e reale mondo parallelo\, lontano da interfacce digitali o sanitarie tra l’individuo e la realtà.\n\nAperti a tutti telefonando per info e prenotazioni al 3207511457 oppure 3669502015.\n\n\n\nMARTEDI 26/4:\n– ore 18.30 Meditazione Statica\, 19.00-20.15  Yoga (offerta libera).\n\n
URL:https://www.villaggiodelsole.org/evento/attivita-25-aprile-1-maggio/
ATTACH;FMTTYPE=image/jpeg:https://www.villaggiodelsole.org/wp-content/uploads/2021/12/yoga.jpg
END:VEVENT
END:VCALENDAR