BEGIN:VCALENDAR
VERSION:2.0
PRODID:-//Villaggio del Sole - ECPv5.0.3.1//NONSGML v1.0//EN
CALSCALE:GREGORIAN
METHOD:PUBLISH
X-WR-CALNAME:Villaggio del Sole
X-ORIGINAL-URL:https://www.villaggiodelsole.org
X-WR-CALDESC:Eventi per Villaggio del Sole
BEGIN:VTIMEZONE
TZID:UTC
BEGIN:STANDARD
TZOFFSETFROM:+0000
TZOFFSETTO:+0000
TZNAME:UTC
DTSTART:20220101T000000
END:STANDARD
END:VTIMEZONE
BEGIN:VEVENT
DTSTART;TZID=UTC:20220509T090000
DTEND;TZID=UTC:20220515T190000
DTSTAMP:20260422T063120
CREATED:20220418T220114Z
LAST-MODIFIED:20220418T220114Z
UID:2252-1652086800-1652641200@www.villaggiodelsole.org
SUMMARY:Attività 9 -15 Maggio
DESCRIPTION:\nATTIVITA’ dell’Associazione AssoNatura! \nAperti esclusivamente ai soci.\n\n\n\nMARTEDI 10/5:\n– ore 18.30 Meditazione Statica\, 19.00-20.15  Yoga (offerta libera).\n\n\n\nSABATO 14/5 e DOMENICA 15/5\n– ore 9.00 APERTURA DELLA STAGIONE NATURISTA 2022\, con accoglienza giornaliera da oggi\, tutti i giorni\, fino al 15 Settembre\n\n\nVi aspettiamo numerosi!\n
URL:https://www.villaggiodelsole.org/evento/attivita-9-15-maggio/
ATTACH;FMTTYPE=image/jpeg:https://www.villaggiodelsole.org/wp-content/uploads/2021/05/piscina_lettini-scaled.jpg
END:VEVENT
END:VCALENDAR