BEGIN:VCALENDAR
VERSION:2.0
PRODID:-//Villaggio del Sole - ECPv5.0.3.1//NONSGML v1.0//EN
CALSCALE:GREGORIAN
METHOD:PUBLISH
X-WR-CALNAME:Villaggio del Sole
X-ORIGINAL-URL:https://www.villaggiodelsole.org
X-WR-CALDESC:Eventi per Villaggio del Sole
BEGIN:VTIMEZONE
TZID:UTC
BEGIN:STANDARD
TZOFFSETFROM:+0000
TZOFFSETTO:+0000
TZNAME:UTC
DTSTART:20220101T000000
END:STANDARD
END:VTIMEZONE
BEGIN:VEVENT
DTSTART;TZID=UTC:20220214T090000
DTEND;TZID=UTC:20220220T190000
DTSTAMP:20260422T081753
CREATED:20220123T173323Z
LAST-MODIFIED:20220219T213349Z
UID:2131-1644829200-1645383600@www.villaggiodelsole.org
SUMMARY:Attività Settimana 14-20 Febbraio
DESCRIPTION:\nATTIVITA’ del Gruppo “Liberi tutti! Sinergie per la nuova era!” \nIl gruppo ha come scopo l’incontro tra persone libere e sane di mente\, al fine di vivere incontri e attività per grandi e piccini in un salutare e reale mondo parallelo\, lontano da interfacce digitali o sanitarie tra l’individuo e la realtà.\n\nAperti a tutti telefonando per info e prenotazioni al 3207511457 oppure 3669502015.\n\n\n\nMARTEDI 15/2: ore 18.30 Meditazione Statica\, 19.00-20.15  Yoga (offerta libera).\n\n\n\nSABATO 19/2\n–ore 19.00 Meditazione del Cuore (GRATUITA e aperta a tutti);\n–ore 20.00 APERICENA condiviso GRATUITO (ognuno porta qualcosa) con:\n– CONFRONTO su “Sinergie per la nuova era”;\n– MUSICA\, CANTO e chiacchere all night long (GRATUITA);\n– ASSAGGIO-MASSAGGIO: per chi desidera un massaggio di prova (GRATUITO) di 15 minuti.\n(ATTENZIONE: l’apericena sarà confermato SOLO con l’adesione di almeno 15 persone\, entro il giovedi precedente!)\n\n\nVi aspettiamo numerosi!\n
URL:https://www.villaggiodelsole.org/evento/attivita-settimana-14-20-febbraio/
ATTACH;FMTTYPE=image/jpeg:https://www.villaggiodelsole.org/wp-content/uploads/2021/07/cinema-aperto.jpg
END:VEVENT
END:VCALENDAR