BEGIN:VCALENDAR
VERSION:2.0
PRODID:-//Villaggio del Sole - ECPv5.0.3.1//NONSGML v1.0//EN
CALSCALE:GREGORIAN
METHOD:PUBLISH
X-WR-CALNAME:Villaggio del Sole
X-ORIGINAL-URL:https://www.villaggiodelsole.org
X-WR-CALDESC:Eventi per Villaggio del Sole
BEGIN:VTIMEZONE
TZID:UTC
BEGIN:STANDARD
TZOFFSETFROM:+0000
TZOFFSETTO:+0000
TZNAME:UTC
DTSTART:20220101T000000
END:STANDARD
END:VTIMEZONE
BEGIN:VEVENT
DTSTART;TZID=UTC:20220117T090000
DTEND;TZID=UTC:20220123T200000
DTSTAMP:20260422T081710
CREATED:20211204T220442Z
LAST-MODIFIED:20220109T220631Z
UID:2064-1642410000-1642968000@www.villaggiodelsole.org
SUMMARY:Attività settimana 17-23 Gennaio
DESCRIPTION:\n\n\n\n\nATTIVITA’ del Gruppo “Liberi tutti! Sinergie per la nuova era!” \nIl gruppo ha come scopo l’incontro tra persone libere e sane di mente\, al fine di vivere incontri e attività per grandi e piccini in un salutare e reale mondo parallelo\, lontano da interfacce digitali o sanitarie tra l’individuo e la realtà.\n\nAperti a tutti telefonando per info e prenotazioni al 3207511457 oppure 3669502015.\n\n\n\nMARTEDI 18/1: ore 18.30 Meditazione Statica\, 19.00-20.15  Yoga (offerta libera).\n\n\n\n\nSABATO 22/1:\nore 11.00 TESSUTI (Circo) con Olivia Staff\, per ragazzi e bambini (contributo 10 a partecipante).\nore 19.00 Meditazione del Cuore (GRATUITA e aperta a tutti);\nore 20.00 APERICENA condiviso GRATUITO (ognuno porta qualcosa) con:\n– CONFRONTO su “Sinergie per la nuova era”;\n– MUSICA\, CANTO e chiacchere all night long (GRATUITA);\n– ASSAGGIO-MASSAGGIO: per chi desidera un massaggio di prova (GRATUITO) di 15 minuti.\nATTENZIONE: l’apericena sarà confermato SOLO con l’adesione di almeno 15 persone\, entro il giovedi precedente!\n\n\n\nDOMENICA 23/1: ore 11.00 (bis!) TESSUTI (Circo) con Olivia Staff per ragazzi e bambini (contributo 10 a partecipante).\n\nVi aspettiamo come sempre numerosi\, gioiosi e… LIBERI!!\n\n\n\n\n\n\n
URL:https://www.villaggiodelsole.org/evento/attivita-settimana-17-23-gennaio/
ATTACH;FMTTYPE=image/jpeg:https://www.villaggiodelsole.org/wp-content/uploads/2021/10/festa.jpg
END:VEVENT
END:VCALENDAR