BEGIN:VCALENDAR
VERSION:2.0
PRODID:-//Villaggio del Sole - ECPv5.0.3.1//NONSGML v1.0//EN
CALSCALE:GREGORIAN
METHOD:PUBLISH
X-WR-CALNAME:Villaggio del Sole
X-ORIGINAL-URL:https://www.villaggiodelsole.org
X-WR-CALDESC:Eventi per Villaggio del Sole
BEGIN:VTIMEZONE
TZID:UTC
BEGIN:STANDARD
TZOFFSETFROM:+0000
TZOFFSETTO:+0000
TZNAME:UTC
DTSTART:20220101T000000
END:STANDARD
END:VTIMEZONE
BEGIN:VEVENT
DTSTART;TZID=UTC:20220321T090000
DTEND;TZID=UTC:20220327T190000
DTSTAMP:20260422T060348
CREATED:20220219T214638Z
LAST-MODIFIED:20220316T220053Z
UID:2224-1647853200-1648407600@www.villaggiodelsole.org
SUMMARY:Attività settimana 21-27 Marzo
DESCRIPTION:\nATTIVITA’ del Gruppo “Liberi tutti! Sinergie per la nuova era!” \nIl gruppo ha come scopo l’incontro tra persone libere e sane di mente\, al fine di vivere incontri e attività per grandi e piccini in un salutare e reale mondo parallelo\, lontano da interfacce digitali o sanitarie tra l’individuo e la realtà.\n\nAperti a tutti telefonando per info e prenotazioni al 3207511457 oppure 3669502015.\n\n\n\nMARTEDI 22/3:\n– ore 18.30 Meditazione Statica\, 19.00-20.15  Yoga (offerta libera).\n\n\n\nSABATO 26/3\n– ore 11.00 tessuti arei con Olivia Staff (Circo) per ragazzi e bambini (10 € a testa)\n–ore 19.00 Meditazione del Cuore (GRATUITA e aperta a tutti);\n–ore 20.00 APERICENA condiviso GRATUITO (ognuno porta qualcosa) con:\n– CONFRONTO su “Sinergie per la nuova era”;\n– MUSICA\, CANTO e chiacchere all night long (GRATUITA);\n– ASSAGGIO-MASSAGGIO: per chi desidera un massaggio di prova (GRATUITO) di 15 minuti.\n(ATTENZIONE: l’apericena sarà confermato SOLO con l’adesione di almeno 15 persone\, entro il giovedi precedente!)\n\nDOMENICA 27/3\nOre 16.00 Tessuti Aerei con Olivia Staff (Circo) per ragazzi e bambini (10 € a testa)\n\n\nVi aspettiamo numerosi!\n
URL:https://www.villaggiodelsole.org/evento/attivita-settimana-21-27-marzo/
ATTACH;FMTTYPE=image/jpeg:https://www.villaggiodelsole.org/wp-content/uploads/2021/10/festa.jpg
END:VEVENT
END:VCALENDAR