BEGIN:VCALENDAR
VERSION:2.0
PRODID:-//Villaggio del Sole - ECPv5.0.3.1//NONSGML v1.0//EN
CALSCALE:GREGORIAN
METHOD:PUBLISH
X-WR-CALNAME:Villaggio del Sole
X-ORIGINAL-URL:https://www.villaggiodelsole.org
X-WR-CALDESC:Eventi per Villaggio del Sole
BEGIN:VTIMEZONE
TZID:UTC
BEGIN:STANDARD
TZOFFSETFROM:+0000
TZOFFSETTO:+0000
TZNAME:UTC
DTSTART:20220101T000000
END:STANDARD
END:VTIMEZONE
BEGIN:VEVENT
DTSTART;TZID=UTC:20220124T090000
DTEND;TZID=UTC:20220130T190000
DTSTAMP:20260422T081754
CREATED:20211204T221418Z
LAST-MODIFIED:20220109T223113Z
UID:2071-1643014800-1643569200@www.villaggiodelsole.org
SUMMARY:Attività settimana 24-30 Gennaio
DESCRIPTION:\nATTIVITA’ del Gruppo “Liberi Tutti! Sinergie per la nuova era!” Per info e prenotazioni telefonare al 3207511457 oppure 3669502015.\n\n\n\nMARTEDI 25/1:  ore 18.30 Meditazione Statica\, 19.00-20.15  Yoga (offerta libera).\n\n\nDOMENICA 30/1: ore 16.15-18.15 Naked Yoga Workshop\n
URL:https://www.villaggiodelsole.org/evento/attivita-settimana-24-30-gennaio-22/
ATTACH;FMTTYPE=image/jpeg:https://www.villaggiodelsole.org/wp-content/uploads/2021/10/meditazione-dinamica.jpg
END:VEVENT
END:VCALENDAR