BEGIN:VCALENDAR
VERSION:2.0
PRODID:-//Villaggio del Sole - ECPv5.0.3.1//NONSGML v1.0//EN
CALSCALE:GREGORIAN
METHOD:PUBLISH
X-WR-CALNAME:Villaggio del Sole
X-ORIGINAL-URL:https://www.villaggiodelsole.org
X-WR-CALDESC:Eventi per Villaggio del Sole
BEGIN:VTIMEZONE
TZID:UTC
BEGIN:STANDARD
TZOFFSETFROM:+0000
TZOFFSETTO:+0000
TZNAME:UTC
DTSTART:20220101T000000
END:STANDARD
END:VTIMEZONE
BEGIN:VEVENT
DTSTART;TZID=UTC:20220903T090000
DTEND;TZID=UTC:20220904T190000
DTSTAMP:20260420T121830
CREATED:20220818T100930Z
LAST-MODIFIED:20220818T101015Z
UID:2607-1662195600-1662318000@www.villaggiodelsole.org
SUMMARY:Beauty and Relax week-end per coppie
DESCRIPTION:Un week-end di benessere naturista vero! Fine settimana dedicato al benessere psicofisico dove sarete coccolati con massaggi e trattamenti di alta qualità. Passerete un week-end tra aromi e profumi dimenticati dedicandovi a voi stessi. Il pacchetto comprende sette trattamenti in due\, pernottamento in B&B o bungalow\, colazione. Il percorso benessere si svolge separatamente.\nProgramma per lui: 2 massaggi + 1 massaggio da 1/2 ora.\nProgramma per lei: 1 idromassaggio con massaggio + 2 mass a scelta + 1 trattamento crema viso-corpo.\nCosto: 260. \n
URL:https://www.villaggiodelsole.org/evento/beauty-and-relax-week-end-per-coppie/
ATTACH;FMTTYPE=image/jpeg:https://www.villaggiodelsole.org/wp-content/uploads/2020/09/idro-petto-davide.jpg
END:VEVENT
END:VCALENDAR