BEGIN:VCALENDAR
VERSION:2.0
PRODID:-//Villaggio del Sole - ECPv5.0.3.1//NONSGML v1.0//EN
CALSCALE:GREGORIAN
METHOD:PUBLISH
X-WR-CALNAME:Villaggio del Sole
X-ORIGINAL-URL:https://www.villaggiodelsole.org
X-WR-CALDESC:Eventi per Villaggio del Sole
BEGIN:VTIMEZONE
TZID:UTC
BEGIN:STANDARD
TZOFFSETFROM:+0000
TZOFFSETTO:+0000
TZNAME:UTC
DTSTART:20220101T000000
END:STANDARD
END:VTIMEZONE
BEGIN:VEVENT
DTSTART;TZID=UTC:20220619T130000
DTEND;TZID=UTC:20220619T140000
DTSTAMP:20260422T003651
CREATED:20220606T064952Z
LAST-MODIFIED:20220606T064952Z
UID:2328-1655643600-1655647200@www.villaggiodelsole.org
SUMMARY:Brunch del Villaggio
DESCRIPTION:Ore 13.00. Piatti della nonna rivisitati\, vino buono locale\, curiosità e tipicità del Piemonte. \nInfo e Prenotazione (obbligatoria entro giovedi 16 giugno!) al 3347669278 \n  \n
URL:https://www.villaggiodelsole.org/evento/brunch-del-villaggio-11/
ATTACH;FMTTYPE=image/jpeg:https://www.villaggiodelsole.org/wp-content/uploads/2021/05/brunch_2.jpg
END:VEVENT
END:VCALENDAR