BEGIN:VCALENDAR
VERSION:2.0
PRODID:-//Villaggio del Sole - ECPv5.0.3.1//NONSGML v1.0//EN
CALSCALE:GREGORIAN
METHOD:PUBLISH
X-WR-CALNAME:Villaggio del Sole
X-ORIGINAL-URL:https://www.villaggiodelsole.org
X-WR-CALDESC:Eventi per Villaggio del Sole
BEGIN:VTIMEZONE
TZID:UTC
BEGIN:STANDARD
TZOFFSETFROM:+0000
TZOFFSETTO:+0000
TZNAME:UTC
DTSTART:20210101T000000
END:STANDARD
END:VTIMEZONE
BEGIN:VEVENT
DTSTART;TZID=UTC:20210627T130000
DTEND;TZID=UTC:20210627T140000
DTSTAMP:20260424T184043
CREATED:20210524T202641Z
LAST-MODIFIED:20210622T143730Z
UID:1621-1624798800-1624802400@www.villaggiodelsole.org
SUMMARY:Brunch(ino) del villaggio
DESCRIPTION:DOMENICA. Un Aperi-pranzo in versione mini per questo week-end\, con MAXI MONOPIATTO tutto da gustare con piatti della nonna rivisitati\, buon vino locale bianco o rosso\, e stuzzichini sfiziosi per tutti. Un piatto COSI COMPOSTO: involtino di crudo con formaggio alle erbe\, zucchine in agrodolce dell’orto\, formaggio di capra con miele\, pomodoro ripieno in salsa tonnata\, prosciutto e melone\, salame di Viale\, un calice di Chardonnay o di Nebbiolo o di Barbera barricato\, il tutto a 14 €. Prenotazione obbligatoria entro Giovedi 24 giugno\, max 20 partecipanti. \n
URL:https://www.villaggiodelsole.org/evento/brunch-del-villaggio-13/
ATTACH;FMTTYPE=image/jpeg:https://www.villaggiodelsole.org/wp-content/uploads/2021/05/brunch_2.jpg
END:VEVENT
END:VCALENDAR