BEGIN:VCALENDAR
VERSION:2.0
PRODID:-//Villaggio del Sole - ECPv5.0.3.1//NONSGML v1.0//EN
CALSCALE:GREGORIAN
METHOD:PUBLISH
X-WR-CALNAME:Villaggio del Sole
X-ORIGINAL-URL:https://www.villaggiodelsole.org
X-WR-CALDESC:Eventi per Villaggio del Sole
BEGIN:VTIMEZONE
TZID:UTC
BEGIN:STANDARD
TZOFFSETFROM:+0000
TZOFFSETTO:+0000
TZNAME:UTC
DTSTART:20220101T000000
END:STANDARD
END:VTIMEZONE
BEGIN:VEVENT
DTSTART;TZID=UTC:20220807T130000
DTEND;TZID=UTC:20220807T140000
DTSTAMP:20260420T153434
CREATED:20220719T111517Z
LAST-MODIFIED:20220719T121735Z
UID:2497-1659877200-1659880800@www.villaggiodelsole.org
SUMMARY:Brunch del Villaggio
DESCRIPTION:DOMENICA. Ore 13.00. Piatti della nonna rivisitati\, vino buono locale\, curiosità e tipicità del Piemonte. Info e Prenotazione (obbligatoria entro il giovedi precedente!) al 3347669278. \n
URL:https://www.villaggiodelsole.org/evento/brunch-del-villaggio-26/
ATTACH;FMTTYPE=image/jpeg:https://www.villaggiodelsole.org/wp-content/uploads/2021/05/brunch_2.jpg
END:VEVENT
END:VCALENDAR