BEGIN:VCALENDAR
VERSION:2.0
PRODID:-//Villaggio del Sole - ECPv5.0.3.1//NONSGML v1.0//EN
CALSCALE:GREGORIAN
METHOD:PUBLISH
X-WR-CALNAME:Villaggio del Sole
X-ORIGINAL-URL:https://www.villaggiodelsole.org
X-WR-CALDESC:Eventi per Villaggio del Sole
BEGIN:VTIMEZONE
TZID:UTC
BEGIN:STANDARD
TZOFFSETFROM:+0000
TZOFFSETTO:+0000
TZNAME:UTC
DTSTART:20200101T000000
END:STANDARD
END:VTIMEZONE
BEGIN:VEVENT
DTSTART;TZID=UTC:20200628T130000
DTEND;TZID=UTC:20200628T140000
DTSTAMP:20260420T044401
CREATED:20200623T173527Z
LAST-MODIFIED:20200623T173527Z
UID:1197-1593349200-1593352800@www.villaggiodelsole.org
SUMMARY:Brunch del villaggio
DESCRIPTION:L’aperipranzo più cool che ci sia\, naturista\, naturale. Con i piatti della nonna rivisitati e le prelibatezze dell’orto. Cacio e pere\, foglie di salvia in pastella\, frittatine di ortiche e di zucchine e menta\, insalata di pasta con basilico dell’orto\, salame di Viale\, insalatona di “nonno orto”\, prosciutto e melone\, focaccia bianca di Montafia\, Macedonia\, mousse di ricotta con marsala\, banana schiaccia con vaniglia. Chardonnay\, Nebbiolo delle Langhe e Barbera barricato superiore delle cantine Merlone di Cossombrato. Contributo 10 €. \n
URL:https://www.villaggiodelsole.org/evento/brunch-del-villaggio/
ATTACH;FMTTYPE=image/jpeg:https://www.villaggiodelsole.org/wp-content/uploads/2020/06/aperitivi-vini.jpg
END:VEVENT
END:VCALENDAR