BEGIN:VCALENDAR
VERSION:2.0
PRODID:-//Villaggio del Sole - ECPv5.0.3.1//NONSGML v1.0//EN
CALSCALE:GREGORIAN
METHOD:PUBLISH
X-WR-CALNAME:Villaggio del Sole
X-ORIGINAL-URL:https://www.villaggiodelsole.org
X-WR-CALDESC:Eventi per Villaggio del Sole
BEGIN:VTIMEZONE
TZID:UTC
BEGIN:STANDARD
TZOFFSETFROM:+0000
TZOFFSETTO:+0000
TZNAME:UTC
DTSTART:20220101T000000
END:STANDARD
END:VTIMEZONE
BEGIN:VEVENT
DTSTART;TZID=UTC:20221217T080000
DTEND;TZID=UTC:20221217T190000
DTSTAMP:20260420T070832
CREATED:20221205T155615Z
LAST-MODIFIED:20221207T103939Z
UID:2745-1671264000-1671303600@www.villaggiodelsole.org
SUMMARY:Capanna Sudatoria
DESCRIPTION:\n\n\n\n\nCapanna sudatoria al Villaggio del Sole. Nuovo appuntamento con il rituale della capanna sudatoria condotta da Alice\, Sabato 17 Dicembre\, dalle ore 10.00 a sera.\nQuota partecipazione 50 €\nInfo e Prenotazioni telefonando al 3347710713 (Alice).\nPrenotazioni pernottamenti: 3207511457.\n\n\n\n\n\n
URL:https://www.villaggiodelsole.org/evento/capanna-sudatoria-2/
ATTACH;FMTTYPE=image/jpeg:https://www.villaggiodelsole.org/wp-content/uploads/2022/12/Capanna-sudatoria-alice.jpg
END:VEVENT
END:VCALENDAR