BEGIN:VCALENDAR
VERSION:2.0
PRODID:-//Villaggio del Sole - ECPv5.0.3.1//NONSGML v1.0//EN
CALSCALE:GREGORIAN
METHOD:PUBLISH
X-WR-CALNAME:Villaggio del Sole
X-ORIGINAL-URL:https://www.villaggiodelsole.org
X-WR-CALDESC:Eventi per Villaggio del Sole
BEGIN:VTIMEZONE
TZID:UTC
BEGIN:STANDARD
TZOFFSETFROM:+0000
TZOFFSETTO:+0000
TZNAME:UTC
DTSTART:20230101T000000
END:STANDARD
END:VTIMEZONE
BEGIN:VEVENT
DTSTART;TZID=UTC:20230911T090000
DTEND;TZID=UTC:20230915T190000
DTSTAMP:20260419T115224
CREATED:20230822T100803Z
LAST-MODIFIED:20230822T100803Z
UID:3365-1694422800-1694804400@www.villaggiodelsole.org
SUMMARY:Chiusi in settimana dall 11 al 15 Settembre!
DESCRIPTION:Ricordiamo a tutti che da lunedi 11 a venerdi 15 Settembre saremo chiusi. Aperti invece nel week.end 16-17 ultimo fine settimana di apertura del villaggio. \n
URL:https://www.villaggiodelsole.org/evento/chiusi-in-settimana-dall-11-al-15-settembre/
ATTACH;FMTTYPE=image/png:https://www.villaggiodelsole.org/wp-content/uploads/2020/03/slider-icon-1.png
END:VEVENT
END:VCALENDAR