BEGIN:VCALENDAR
VERSION:2.0
PRODID:-//Villaggio del Sole - ECPv5.0.3.1//NONSGML v1.0//EN
CALSCALE:GREGORIAN
METHOD:PUBLISH
X-WR-CALNAME:Villaggio del Sole
X-ORIGINAL-URL:https://www.villaggiodelsole.org
X-WR-CALDESC:Eventi per Villaggio del Sole
BEGIN:VTIMEZONE
TZID:UTC
BEGIN:STANDARD
TZOFFSETFROM:+0000
TZOFFSETTO:+0000
TZNAME:UTC
DTSTART:20220101T000000
END:STANDARD
END:VTIMEZONE
BEGIN:VEVENT
DTSTART;TZID=UTC:20220911T180000
DTEND;TZID=UTC:20220918T190000
DTSTAMP:20260420T105022
CREATED:20220818T103714Z
LAST-MODIFIED:20220818T103951Z
UID:2628-1662919200-1663527600@www.villaggiodelsole.org
SUMMARY:Chiusura dal 12/9  Aperti we del 17-18
DESCRIPTION:Il Villaggio del sole sarà chiuso da Lunedi 12 Settembre all’Accoglienza Giornaliera Naturista.\nSaremo aperti ancora SOLO nel week-end del 17-18 Settembre \n
URL:https://www.villaggiodelsole.org/evento/chiusura-dal-12-settembre-aperti-we-del-17-18/
ATTACH;FMTTYPE=image/jpeg:https://www.villaggiodelsole.org/wp-content/uploads/2020/12/coppia-in-autunno.jpg
END:VEVENT
END:VCALENDAR