BEGIN:VCALENDAR
VERSION:2.0
PRODID:-//Villaggio del Sole - ECPv5.0.3.1//NONSGML v1.0//EN
CALSCALE:GREGORIAN
METHOD:PUBLISH
X-WR-CALNAME:Villaggio del Sole
X-ORIGINAL-URL:https://www.villaggiodelsole.org
X-WR-CALDESC:Eventi per Villaggio del Sole
BEGIN:VTIMEZONE
TZID:UTC
BEGIN:STANDARD
TZOFFSETFROM:+0000
TZOFFSETTO:+0000
TZNAME:UTC
DTSTART:20210101T000000
END:STANDARD
END:VTIMEZONE
BEGIN:VEVENT
DTSTART;TZID=UTC:20210717T090000
DTEND;TZID=UTC:20210718T190000
DTSTAMP:20260424T153327
CREATED:20210622T111636Z
LAST-MODIFIED:20210622T111636Z
UID:1739-1626512400-1626634800@www.villaggiodelsole.org
SUMMARY:Dialogo intorno al femminino
DESCRIPTION:SABATO e DOMENICA. Scoperta degli archetipi femminili e del loro significato. Imparare ad integrarli . I cicli della donna: dal menarca alla menopausa\, per incarnare appieno l’energia femminile. Come viverli al meglio e comprendere eventuali problematiche ad essi correlate. Comprendere come interagire col maschile collaborando. Aperto a UOMINI e DONNE. \n(minimo 3 partecipanti iscritti\, durata 3 ore\, costo 30 euro a persona\, orari da definire) \n
URL:https://www.villaggiodelsole.org/evento/dialogo-intorno-al-femminino-7/
ATTACH;FMTTYPE=image/jpeg:https://www.villaggiodelsole.org/wp-content/uploads/2021/05/archetipi-femminili-dee-greche.jpg
END:VEVENT
END:VCALENDAR