BEGIN:VCALENDAR
VERSION:2.0
PRODID:-//Villaggio del Sole - ECPv5.0.3.1//NONSGML v1.0//EN
CALSCALE:GREGORIAN
METHOD:PUBLISH
X-WR-CALNAME:Villaggio del Sole
X-ORIGINAL-URL:https://www.villaggiodelsole.org
X-WR-CALDESC:Eventi per Villaggio del Sole
BEGIN:VTIMEZONE
TZID:UTC
BEGIN:STANDARD
TZOFFSETFROM:+0000
TZOFFSETTO:+0000
TZNAME:UTC
DTSTART:20200101T000000
END:STANDARD
END:VTIMEZONE
BEGIN:VEVENT
DTSTART;TZID=UTC:20200704T213000
DTEND;TZID=UTC:20200704T235900
DTSTAMP:20260420T093655
CREATED:20200629T112106Z
LAST-MODIFIED:20200708T105032Z
UID:1209-1593898200-1593907140@www.villaggiodelsole.org
SUMMARY:Disco Estate 2020
DESCRIPTION:SABATO SERA. Appuntamento con l’unica discoteca naturista d’Italia\, DJ-Set\, luci e musica mix attuale e revival. \n
URL:https://www.villaggiodelsole.org/evento/disco-estate-2020/
ATTACH;FMTTYPE=image/jpeg:https://www.villaggiodelsole.org/wp-content/uploads/2020/05/ballo-nudista.jpg
END:VEVENT
END:VCALENDAR