BEGIN:VCALENDAR
VERSION:2.0
PRODID:-//Villaggio del Sole - ECPv5.0.3.1//NONSGML v1.0//EN
CALSCALE:GREGORIAN
METHOD:PUBLISH
X-WR-CALNAME:Villaggio del Sole
X-ORIGINAL-URL:https://www.villaggiodelsole.org
X-WR-CALDESC:Eventi per Villaggio del Sole
BEGIN:VTIMEZONE
TZID:UTC
BEGIN:STANDARD
TZOFFSETFROM:+0000
TZOFFSETTO:+0000
TZNAME:UTC
DTSTART:20200101T000000
END:STANDARD
END:VTIMEZONE
BEGIN:VEVENT
DTSTART;TZID=UTC:20200711T213000
DTEND;TZID=UTC:20200711T235900
DTSTAMP:20260420T174034
CREATED:20200629T113910Z
LAST-MODIFIED:20200708T105537Z
UID:1223-1594503000-1594511940@www.villaggiodelsole.org
SUMMARY:Disco Nat
DESCRIPTION:SABATO SERA. Appuntamento con l’unica discoteca naturista d’Italia\, DJ-Set\, luci e musica mix attuale e revival. \n
URL:https://www.villaggiodelsole.org/evento/disco-nat/
ATTACH;FMTTYPE=image/jpeg:https://www.villaggiodelsole.org/wp-content/uploads/2020/06/discoteca-naturista.jpg
END:VEVENT
END:VCALENDAR