BEGIN:VCALENDAR
VERSION:2.0
PRODID:-//Villaggio del Sole - ECPv5.0.3.1//NONSGML v1.0//EN
CALSCALE:GREGORIAN
METHOD:PUBLISH
X-WR-CALNAME:Villaggio del Sole
X-ORIGINAL-URL:https://www.villaggiodelsole.org
X-WR-CALDESC:Eventi per Villaggio del Sole
BEGIN:VTIMEZONE
TZID:UTC
BEGIN:STANDARD
TZOFFSETFROM:+0000
TZOFFSETTO:+0000
TZNAME:UTC
DTSTART:20220101T000000
END:STANDARD
END:VTIMEZONE
BEGIN:VEVENT
DTSTART;TZID=UTC:20220618T213000
DTEND;TZID=UTC:20220618T235900
DTSTAMP:20260422T022326
CREATED:20220606T064403Z
LAST-MODIFIED:20220606T064403Z
UID:2324-1655587800-1655596740@www.villaggiodelsole.org
SUMMARY:Disco Summer 2022 - Festa Naturista
DESCRIPTION:Inaugurazione delle danze!!!  Disco summer 2022\, con DJ set\, Luci e musica fino alle 24.00! \nGuest Star: Ponzio Pilato; Dj: la Monaca di Monza \n
URL:https://www.villaggiodelsole.org/evento/disco-summer-2022-festa-naturista/
ATTACH;FMTTYPE=image/jpeg:https://www.villaggiodelsole.org/wp-content/uploads/2020/06/discoteca-naturista.jpg
END:VEVENT
END:VCALENDAR