BEGIN:VCALENDAR
VERSION:2.0
PRODID:-//Villaggio del Sole - ECPv5.0.3.1//NONSGML v1.0//EN
CALSCALE:GREGORIAN
METHOD:PUBLISH
X-WR-CALNAME:Villaggio del Sole
X-ORIGINAL-URL:https://www.villaggiodelsole.org
X-WR-CALDESC:Eventi per Villaggio del Sole
BEGIN:VTIMEZONE
TZID:UTC
BEGIN:STANDARD
TZOFFSETFROM:+0000
TZOFFSETTO:+0000
TZNAME:UTC
DTSTART:20220101T000000
END:STANDARD
END:VTIMEZONE
BEGIN:VEVENT
DTSTART;TZID=UTC:20220806T221500
DTEND;TZID=UTC:20220806T235900
DTSTAMP:20260421T023944
CREATED:20220719T111221Z
LAST-MODIFIED:20220719T144111Z
UID:2493-1659824100-1659830340@www.villaggiodelsole.org
SUMMARY:Disco Summer 22 Festa Naturista
DESCRIPTION:Ore 22.15-24.00 FESTA di AFRODITE e di ARES e del figlio EROS! …e di tutto l’ambaradan dei Dei Greci! Tutti vestiti come Dei dell’antica Grecia o come statue di marmo. Disco summer 2022\, con DJ set\, luci e musica! Dj: Zeus padre di Afrodite; Guest Star: Dione\, madre di Afrodite; Supporter: Il Partenone. \n
URL:https://www.villaggiodelsole.org/evento/disco-summer-22-festa-naturista-7/
ATTACH;FMTTYPE=image/jpeg:https://www.villaggiodelsole.org/wp-content/uploads/2021/07/nude-afrodite.jpg
END:VEVENT
END:VCALENDAR