BEGIN:VCALENDAR
VERSION:2.0
PRODID:-//Villaggio del Sole - ECPv5.0.3.1//NONSGML v1.0//EN
CALSCALE:GREGORIAN
METHOD:PUBLISH
X-WR-CALNAME:Villaggio del Sole
X-ORIGINAL-URL:https://www.villaggiodelsole.org
X-WR-CALDESC:Eventi per Villaggio del Sole
BEGIN:VTIMEZONE
TZID:UTC
BEGIN:STANDARD
TZOFFSETFROM:+0000
TZOFFSETTO:+0000
TZNAME:UTC
DTSTART:20220101T000000
END:STANDARD
END:VTIMEZONE
BEGIN:VEVENT
DTSTART;TZID=UTC:20220903T220000
DTEND;TZID=UTC:20220903T235900
DTSTAMP:20260420T121233
CREATED:20220818T102145Z
LAST-MODIFIED:20220828T144258Z
UID:2613-1662242400-1662249540@www.villaggiodelsole.org
SUMMARY:Disco Summer 22   Festa Naturista
DESCRIPTION:ULTIMA DISCO della STAGIONE!! \nOre 22.15-24.00 – FESTA DEL’UVA. Tutti vestiti solo con grappoli d’uva matura!!! Con DJ set\, luci e musica disco dance! Dj: Sbronseado; Guest Star: Chicco d’Uva; Supporter: Moscato d’Asti. \n
URL:https://www.villaggiodelsole.org/evento/disco-summer-22-festa-naturista-9/
ATTACH;FMTTYPE=image/jpeg:https://www.villaggiodelsole.org/wp-content/uploads/2021/08/grappoli-duva.jpg
END:VEVENT
END:VCALENDAR