BEGIN:VCALENDAR
VERSION:2.0
PRODID:-//Villaggio del Sole - ECPv5.0.3.1//NONSGML v1.0//EN
CALSCALE:GREGORIAN
METHOD:PUBLISH
X-WR-CALNAME:Villaggio del Sole
X-ORIGINAL-URL:https://www.villaggiodelsole.org
X-WR-CALDESC:Eventi per Villaggio del Sole
BEGIN:VTIMEZONE
TZID:UTC
BEGIN:STANDARD
TZOFFSETFROM:+0000
TZOFFSETTO:+0000
TZNAME:UTC
DTSTART:20220101T000000
END:STANDARD
END:VTIMEZONE
BEGIN:VEVENT
DTSTART;TZID=UTC:20220625T213000
DTEND;TZID=UTC:20220625T235900
DTSTAMP:20260422T003746
CREATED:20220611T085819Z
LAST-MODIFIED:20220621T162401Z
UID:2347-1656192600-1656201540@www.villaggiodelsole.org
SUMMARY:Disco Summer 22  Festa Naturista
DESCRIPTION:Ore 22\,15-23.45 – FESTA DI ADAMO ED EVA. Tutti con SOLO la foglia di fico! Disco summer 2022\, con DJ set\, Luci e musica fino alle 24.00! Dj: Adamo\, Guest Star: Eva\, Supporter: Mosè. \n
URL:https://www.villaggiodelsole.org/evento/disco-summer-22-festa-naturista/
ATTACH;FMTTYPE=image/jpeg:https://www.villaggiodelsole.org/wp-content/uploads/2021/05/adamo_ed_eva.jpg
END:VEVENT
END:VCALENDAR