BEGIN:VCALENDAR
VERSION:2.0
PRODID:-//Villaggio del Sole - ECPv5.0.3.1//NONSGML v1.0//EN
CALSCALE:GREGORIAN
METHOD:PUBLISH
X-WR-CALNAME:Villaggio del Sole
X-ORIGINAL-URL:https://www.villaggiodelsole.org
X-WR-CALDESC:Eventi per Villaggio del Sole
BEGIN:VTIMEZONE
TZID:UTC
BEGIN:STANDARD
TZOFFSETFROM:+0000
TZOFFSETTO:+0000
TZNAME:UTC
DTSTART:20230101T000000
END:STANDARD
END:VTIMEZONE
BEGIN:VEVENT
DTSTART;TZID=UTC:20230722T214500
DTEND;TZID=UTC:20230722T234500
DTSTAMP:20260419T141213
CREATED:20230710T103735Z
LAST-MODIFIED:20230710T152453Z
UID:3029-1690062300-1690069500@www.villaggiodelsole.org
SUMMARY:Disco Summer 23 Festa Naturista
DESCRIPTION:Ore 22.15-23-45 – FESTA dei Maghi e delle Fate. Tutti SOLO con Cappello a punta e bacchetta magica 😉 Disco summer 2023\, con DJ set\, luci e musica! Dj: Mago Merlino\, Guest Star: Fata Turchina\, Supporter: Maga Magò. \n
URL:https://www.villaggiodelsole.org/evento/disco-summer-23-festa-naturista-4/
ATTACH;FMTTYPE=image/jpeg:https://www.villaggiodelsole.org/wp-content/uploads/2021/06/strega-sexy.jpg
END:VEVENT
END:VCALENDAR