BEGIN:VCALENDAR
VERSION:2.0
PRODID:-//Villaggio del Sole - ECPv5.0.3.1//NONSGML v1.0//EN
CALSCALE:GREGORIAN
METHOD:PUBLISH
X-WR-CALNAME:Villaggio del Sole
X-ORIGINAL-URL:https://www.villaggiodelsole.org
X-WR-CALDESC:Eventi per Villaggio del Sole
BEGIN:VTIMEZONE
TZID:UTC
BEGIN:STANDARD
TZOFFSETFROM:+0000
TZOFFSETTO:+0000
TZNAME:UTC
DTSTART:20230101T000000
END:STANDARD
END:VTIMEZONE
BEGIN:VEVENT
DTSTART;TZID=UTC:20230701T221500
DTEND;TZID=UTC:20230701T233000
DTSTAMP:20260419T230246
CREATED:20230519T165816Z
LAST-MODIFIED:20230519T165816Z
UID:2966-1688249700-1688254200@www.villaggiodelsole.org
SUMMARY:Disco Summer 23  Festa Naturista
DESCRIPTION:Ore 22\,15-23.45 – FESTA DI ADAMO ED EVA. Tutti con SOLO con due foglie di fico sugli occhi! …e poi ballo a mosca cieca!!  Dove si para\, si para! Disco summer 2023\, con DJ set\, Luci e musica fino alle 23.30! Dj: Adamo\, Guest Star: Eva\, Supporter: Il Serpente. \n
URL:https://www.villaggiodelsole.org/evento/disco-summer-23-festa-naturista/
ATTACH;FMTTYPE=image/jpeg:https://www.villaggiodelsole.org/wp-content/uploads/2021/05/adamo_ed_eva.jpg
END:VEVENT
END:VCALENDAR