BEGIN:VCALENDAR
VERSION:2.0
PRODID:-//Villaggio del Sole - ECPv5.0.3.1//NONSGML v1.0//EN
CALSCALE:GREGORIAN
METHOD:PUBLISH
X-WR-CALNAME:Villaggio del Sole
X-ORIGINAL-URL:https://www.villaggiodelsole.org
X-WR-CALDESC:Eventi per Villaggio del Sole
BEGIN:VTIMEZONE
TZID:UTC
BEGIN:STANDARD
TZOFFSETFROM:+0000
TZOFFSETTO:+0000
TZNAME:UTC
DTSTART:20200101T000000
END:STANDARD
END:VTIMEZONE
BEGIN:VEVENT
DTSTART;TZID=UTC:20200620T213000
DTEND;TZID=UTC:20200620T235900
DTSTAMP:20260419T171608
CREATED:20200603T095728Z
LAST-MODIFIED:20200603T095728Z
UID:1167-1592688600-1592697540@www.villaggiodelsole.org
SUMMARY:Disco summer
DESCRIPTION:Prima disco dell’estate! Festa naturista per tutti con DJ-set; musica attuale e revival. \n
URL:https://www.villaggiodelsole.org/evento/disco-summer/
ATTACH;FMTTYPE=image/jpeg:https://www.villaggiodelsole.org/wp-content/uploads/2020/05/ballo-nudista.jpg
END:VEVENT
END:VCALENDAR