BEGIN:VCALENDAR
VERSION:2.0
PRODID:-//Villaggio del Sole - ECPv5.0.3.1//NONSGML v1.0//EN
CALSCALE:GREGORIAN
METHOD:PUBLISH
X-WR-CALNAME:Villaggio del Sole
X-ORIGINAL-URL:https://www.villaggiodelsole.org
X-WR-CALDESC:Eventi per Villaggio del Sole
BEGIN:VTIMEZONE
TZID:UTC
BEGIN:STANDARD
TZOFFSETFROM:+0000
TZOFFSETTO:+0000
TZNAME:UTC
DTSTART:20210101T000000
END:STANDARD
END:VTIMEZONE
BEGIN:VEVENT
DTSTART;TZID=UTC:20210703T210000
DTEND;TZID=UTC:20210703T235900
DTSTAMP:20260424T170744
CREATED:20210622T110743Z
LAST-MODIFIED:20210622T110917Z
UID:1729-1625346000-1625356740@www.villaggiodelsole.org
SUMMARY:Discoteca Naturista: festa della biancheria intima!
DESCRIPTION:SABATO. Disco\, Dance\, revival e anni 2000-2021! …con DJ-set\, luci e musica per ballare tre ore senza interruzione! \nDJ Guest: Rocco S. – Animation Guest: Cicciolina – Abito prescritto: biancheria intima sexy. \n
URL:https://www.villaggiodelsole.org/evento/discoteca-naturista-festa-della-biancheria-intima/
ATTACH;FMTTYPE=image/jpeg:https://www.villaggiodelsole.org/wp-content/uploads/2021/06/intimo.jpg
END:VEVENT
END:VCALENDAR