BEGIN:VCALENDAR
VERSION:2.0
PRODID:-//Villaggio del Sole - ECPv5.0.3.1//NONSGML v1.0//EN
CALSCALE:GREGORIAN
METHOD:PUBLISH
X-WR-CALNAME:Villaggio del Sole
X-ORIGINAL-URL:https://www.villaggiodelsole.org
X-WR-CALDESC:Eventi per Villaggio del Sole
BEGIN:VTIMEZONE
TZID:UTC
BEGIN:STANDARD
TZOFFSETFROM:+0000
TZOFFSETTO:+0000
TZNAME:UTC
DTSTART:20210101T000000
END:STANDARD
END:VTIMEZONE
BEGIN:VEVENT
DTSTART;TZID=UTC:20210710T091500
DTEND;TZID=UTC:20210710T235900
DTSTAMP:20260424T153546
CREATED:20210622T114504Z
LAST-MODIFIED:20210707T084154Z
UID:1765-1625908500-1625961540@www.villaggiodelsole.org
SUMMARY:Discoteca Naturista: Festa della biancheria intima sexy (bis)
DESCRIPTION:SABATO. A grande richiesta si ripete la festa della biancheria intima sexy!!! Disco\, Dance\, revival e attuale! …con DJ-set\, luci e musica per ballare tre ore senza interruzione! \nDJ Guest: John Holmes (una vita per il cinema) – Animation Guest: La monaca di Monza – Dress code: solo biancheria intima sexy. \n
URL:https://www.villaggiodelsole.org/evento/discoteca-naturista-festa-delle-streghe-delle-fate-e-dei-maghi/
ATTACH;FMTTYPE=image/jpeg:https://www.villaggiodelsole.org/wp-content/uploads/2021/06/intimo.jpg
END:VEVENT
END:VCALENDAR