BEGIN:VCALENDAR
VERSION:2.0
PRODID:-//Villaggio del Sole - ECPv5.0.3.1//NONSGML v1.0//EN
CALSCALE:GREGORIAN
METHOD:PUBLISH
X-WR-CALNAME:Villaggio del Sole
X-ORIGINAL-URL:https://www.villaggiodelsole.org
X-WR-CALDESC:Eventi per Villaggio del Sole
BEGIN:VTIMEZONE
TZID:UTC
BEGIN:STANDARD
TZOFFSETFROM:+0000
TZOFFSETTO:+0000
TZNAME:UTC
DTSTART:20210101T000000
END:STANDARD
END:VTIMEZONE
BEGIN:VEVENT
DTSTART;TZID=UTC:20210814T213000
DTEND;TZID=UTC:20210814T235900
DTSTAMP:20260423T165514
CREATED:20210708T142604Z
LAST-MODIFIED:20210809T181847Z
UID:1888-1628976600-1628985540@www.villaggiodelsole.org
SUMMARY:Discoteca Naturista: Festa di Ferragosto!
DESCRIPTION:SABATO. Disco\, Dance\, revival e attuale! …con DJ-set\, luci e musica per ballare tre ore senza interruzione!\nDJ Guest: Solleone – Animation Guest: Antonio fa caldo! – Dress code: solo pinne\, fucile ed occhiali (o in alternativa solo salvagente gonfiabile con testa di paperella). Area sequestro gavettoni all’ingresso. \n
URL:https://www.villaggiodelsole.org/evento/discoteca-naturista-festa-di-ferragosto/
ATTACH;FMTTYPE=image/jpeg:https://www.villaggiodelsole.org/wp-content/uploads/2021/07/pinne-fucile-occhiali.jpg
END:VEVENT
END:VCALENDAR