BEGIN:VCALENDAR
VERSION:2.0
PRODID:-//Villaggio del Sole - ECPv5.0.3.1//NONSGML v1.0//EN
CALSCALE:GREGORIAN
METHOD:PUBLISH
X-WR-CALNAME:Villaggio del Sole
X-ORIGINAL-URL:https://www.villaggiodelsole.org
X-WR-CALDESC:Eventi per Villaggio del Sole
BEGIN:VTIMEZONE
TZID:UTC
BEGIN:STANDARD
TZOFFSETFROM:+0000
TZOFFSETTO:+0000
TZNAME:UTC
DTSTART:20210101T000000
END:STANDARD
END:VTIMEZONE
BEGIN:VEVENT
DTSTART;TZID=UTC:20210717T211500
DTEND;TZID=UTC:20210717T235900
DTSTAMP:20260424T135138
CREATED:20210622T115937Z
LAST-MODIFIED:20210707T084823Z
UID:1770-1626556500-1626566340@www.villaggiodelsole.org
SUMMARY:Discoteca Naturista: Tantra party
DESCRIPTION:SABATO. Musica Tantrica\, budda bar\, cool e soft\, meditazioni dinamiche di osho\, con DJ-set\, luci e musica per ballare tre ore senza interruzione! \nDJ Guest: Davide  – Animation Guest: jogini – Abito prescritto: veli trasparenti. \n
URL:https://www.villaggiodelsole.org/evento/discoteca-naturista-tantra-party/
ATTACH;FMTTYPE=image/jpeg:https://www.villaggiodelsole.org/wp-content/uploads/2021/06/tantra1.jpg
END:VEVENT
END:VCALENDAR