BEGIN:VCALENDAR
VERSION:2.0
PRODID:-//Villaggio del Sole - ECPv5.0.3.1//NONSGML v1.0//EN
CALSCALE:GREGORIAN
METHOD:PUBLISH
X-WR-CALNAME:Villaggio del Sole
X-ORIGINAL-URL:https://www.villaggiodelsole.org
X-WR-CALDESC:Eventi per Villaggio del Sole
BEGIN:VTIMEZONE
TZID:UTC
BEGIN:STANDARD
TZOFFSETFROM:+0000
TZOFFSETTO:+0000
TZNAME:UTC
DTSTART:20210101T000000
END:STANDARD
END:VTIMEZONE
BEGIN:VEVENT
DTSTART;TZID=UTC:20210619T210000
DTEND;TZID=UTC:20210619T235900
DTSTAMP:20260424T201750
CREATED:20210524T175031Z
LAST-MODIFIED:20210601T211207Z
UID:1592-1624136400-1624147140@www.villaggiodelsole.org
SUMMARY:Discoteca Naturista: Festa del Solstizio d'Estate
DESCRIPTION:SABATO. Inaugurazione delle danze! Disco Disco\, con DJ-set\, luci e musica per ballare tre ore senza interruzione! \nDJ Guest: il Dio Pan – Animation Guest: la Dea Minerva – Abito prescritto: spighe di grano e rami d’edera. \n  \n
URL:https://www.villaggiodelsole.org/evento/discoteca-naturista/
ATTACH;FMTTYPE=image/jpeg:https://www.villaggiodelsole.org/wp-content/uploads/2020/07/danza-nuda-gruppo2.jpg
END:VEVENT
END:VCALENDAR