BEGIN:VCALENDAR
VERSION:2.0
PRODID:-//Villaggio del Sole - ECPv5.0.3.1//NONSGML v1.0//EN
CALSCALE:GREGORIAN
METHOD:PUBLISH
X-WR-CALNAME:Villaggio del Sole
X-ORIGINAL-URL:https://www.villaggiodelsole.org
X-WR-CALDESC:Eventi per Villaggio del Sole
BEGIN:VTIMEZONE
TZID:UTC
BEGIN:STANDARD
TZOFFSETFROM:+0000
TZOFFSETTO:+0000
TZNAME:UTC
DTSTART:20210101T000000
END:STANDARD
END:VTIMEZONE
BEGIN:VEVENT
DTSTART;TZID=UTC:20210624T090000
DTEND;TZID=UTC:20210624T200000
DTSTAMP:20260424T184109
CREATED:20210622T103428Z
LAST-MODIFIED:20210622T103428Z
UID:1691-1624525200-1624564800@www.villaggiodelsole.org
SUMMARY:Festa di San Giovanni a Torino
DESCRIPTION:Approfitta della festa di san giovanni per venirla a passare al Villaggio del sole!  Giovedi 24 tutto aperto: piscina\, idromassaggio\, servizi\, docce\, trekking\, massaggi naturisti\, lettini da sole\, amache\, bar self service. Ti aspettiamo qui per un San Giovanni naturista!! \n
URL:https://www.villaggiodelsole.org/evento/festa-di-san-giovanni-a-torino/
ATTACH;FMTTYPE=image/jpeg:https://www.villaggiodelsole.org/wp-content/uploads/2020/03/TERRAZZO2.jpg
END:VEVENT
END:VCALENDAR