BEGIN:VCALENDAR
VERSION:2.0
PRODID:-//Villaggio del Sole - ECPv5.0.3.1//NONSGML v1.0//EN
CALSCALE:GREGORIAN
METHOD:PUBLISH
X-WR-CALNAME:Villaggio del Sole
X-ORIGINAL-URL:https://www.villaggiodelsole.org
X-WR-CALDESC:Eventi per Villaggio del Sole
BEGIN:VTIMEZONE
TZID:UTC
BEGIN:STANDARD
TZOFFSETFROM:+0000
TZOFFSETTO:+0000
TZNAME:UTC
DTSTART:20230101T000000
END:STANDARD
END:VTIMEZONE
BEGIN:VEVENT
DTSTART;TZID=UTC:20230116T090000
DTEND;TZID=UTC:20230122T190000
DTSTAMP:20260420T071709
CREATED:20221226T142139Z
LAST-MODIFIED:20221226T142139Z
UID:2754-1673859600-1674414000@www.villaggiodelsole.org
SUMMARY:Gruppo Liberi Tutti! Settimana 16-22 Gennaio 23
DESCRIPTION:\nATTIVITA’ del Gruppo “Liberi tutti! Sinergie per la nuova era!” \nIl gruppo ha come scopo l’incontro tra persone libere e sane di mente\, al fine di vivere incontri e attività per grandi e piccini in un salutare e reale mondo parallelo\, lontano da interfacce digitali o sanitarie tra l’individuo e la realtà.\n\nAperti a tutti telefonando per info e prenotazioni al 3207511457 oppure 3669502015.\n\nTUTTI I GIORNI: Massaggio Donna da 1 ora\, su appuntamento\, a scelta fra i disponibili promozione a 35 €\, Consulenza di coppia ad indirizzo corporeo\, Massaggi di coppia a scelta tra i disponibili.\n\n\n\nLUNEDI: ore 18.15 – 19.15 Meditazione del Cuore di Osho con Francesca\nMARTEDI: ore 18.30 – 19.00 Meditazione Statica\, 19.00-20.15  Yoga (offerta libera)\n\n
URL:https://www.villaggiodelsole.org/evento/gruppo-liberi-tutti-settimana-16-22-gennaio-23/
ATTACH;FMTTYPE=image/jpeg:https://www.villaggiodelsole.org/wp-content/uploads/2020/02/benessere1.jpg
END:VEVENT
END:VCALENDAR