BEGIN:VCALENDAR
VERSION:2.0
PRODID:-//Villaggio del Sole - ECPv5.0.3.1//NONSGML v1.0//EN
CALSCALE:GREGORIAN
METHOD:PUBLISH
X-WR-CALNAME:Villaggio del Sole
X-ORIGINAL-URL:https://www.villaggiodelsole.org
X-WR-CALDESC:Eventi per Villaggio del Sole
BEGIN:VTIMEZONE
TZID:UTC
BEGIN:STANDARD
TZOFFSETFROM:+0000
TZOFFSETTO:+0000
TZNAME:UTC
DTSTART:20220101T000000
END:STANDARD
END:VTIMEZONE
BEGIN:VEVENT
DTSTART;TZID=UTC:20221003T090000
DTEND;TZID=UTC:20221009T190000
DTSTAMP:20260420T105022
CREATED:20220918T175100Z
LAST-MODIFIED:20220918T181730Z
UID:2650-1664787600-1665342000@www.villaggiodelsole.org
SUMMARY:Gruppo Liberi Tutti!  Settimana 3-9 Ottobre 22
DESCRIPTION:\nATTIVITA’ del Gruppo “Liberi tutti! Sinergie per la nuova era!” \nIl gruppo ha come scopo l’incontro tra persone libere e sane di mente\, al fine di vivere incontri e attività per grandi e piccini in un salutare e reale mondo parallelo\, lontano da interfacce digitali o sanitarie tra l’individuo e la realtà.\n\nAperti a tutti telefonando per info e prenotazioni al 3207511457 oppure 3669502015.\n\n\n\nLUNEDI: ore 18.15 – 19.1 Meditazione Kundalini di Osho con Francesca\nMARTEDI: ore 18.30 – 19.00 Meditazione Statica\, 19.00-20.15  Yoga (offerta libera)\nSABATO: ore 11.00 -12.30 Lezione di tessuti aerei per bambini e ragazzi con Rachele\nDOMENICA: ore 11.00 -12.30 Lezione di tessuti aerei per bambini e ragazzi con Rachele\n\n\n
URL:https://www.villaggiodelsole.org/evento/gruppo-liberi-tutti-settimana-39-ottobre/
ATTACH;FMTTYPE=image/jpeg:https://www.villaggiodelsole.org/wp-content/uploads/2022/09/tessuto-aereo.jpg
END:VEVENT
END:VCALENDAR