BEGIN:VCALENDAR
VERSION:2.0
PRODID:-//Villaggio del Sole - ECPv5.0.3.1//NONSGML v1.0//EN
CALSCALE:GREGORIAN
METHOD:PUBLISH
X-WR-CALNAME:Villaggio del Sole
X-ORIGINAL-URL:https://www.villaggiodelsole.org
X-WR-CALDESC:Eventi per Villaggio del Sole
BEGIN:VTIMEZONE
TZID:UTC
BEGIN:STANDARD
TZOFFSETFROM:+0000
TZOFFSETTO:+0000
TZNAME:UTC
DTSTART:20210101T000000
END:STANDARD
END:VTIMEZONE
BEGIN:VEVENT
DTSTART;TZID=UTC:20211101T090000
DTEND;TZID=UTC:20211107T190000
DTSTAMP:20260422T095927
CREATED:20211024T092740Z
LAST-MODIFIED:20211027T205656Z
UID:2014-1635757200-1636311600@www.villaggiodelsole.org
SUMMARY:Incontri settimana 1-7 novembre 21
DESCRIPTION:\n\n\n\n\n(in foto: Vista nutturna dell’idromassaggio jacuzzi 5 posti)\n\nATTIVITA’ ed EVENTI del Gruppo “Liberi tutti!” della settimana 1-7 NOVEMBRE 2021 al Villaggio del sole.\nAperti a tutti telefonando per info e prenotazioni al 3207511457 oppure 3669502015.\n\nIl gruppo ha come scopo l’incontro tra persone libere e sane di mente\, al fine di vivere incontri e attività per grandi e piccini in un salutare e reale mondo parallelo\, lontano da interfacce digitali o sanitarie tra l’individuo e la realtà.\n\n\n\nLUNEDI: ore 17.30 Meditazione con Francesca; ore 18.30 YOGA Ratna con Francesca (solo yoga 10\, meditazione e yoga 12\, solo meditazione 8.)\n\n\n\nMARTEDI: ore 18.30 Meditazione Kundalini (Osho) (5 euro a partecipante) aperta a tutti!\n\n\n\nVENERDI: ore 18.30 Meditazione del Cuore (GRATUITA e aperta a tutti); ore 19.30 APERICENA condiviso (ognuno porta qualcosa) GRATUITO + IDROMASSAGGIO CALDO OPEN AIR (GRATUITO) con cromoterapia e aromaterapia per chi lo vuole fare portare accappatoio e ciabatte + Serata con MUSICA\, CANTO e chiacchere all night long (GRATUITA) + ASSAGGIO-MASSAGGIO: per chi desidera un massaggio di prova (GRATUITO) di 15 minuti.\n\n\n\nSABATO: ore 11.00 TESSUTI (Circo) con Olivia Staff\, per ragazzi e bambini (contributo 10 a partecipante).\n\n\n\nDOMENICA: ore 11.00 (bis!) TESSUTI (Circo) con Olivia Staff per ragazzi e bambini (contributo 10 a partecipante).\n\nVi aspettiamo come sempre numerosi\, gioiosi e… LIBERI!!\n\n\n\n\n\n  \n
URL:https://www.villaggiodelsole.org/evento/incontri-del-gruppo-liberi-tutti-settimana-1-7-novembre-21/
ATTACH;FMTTYPE=image/jpeg:https://www.villaggiodelsole.org/wp-content/uploads/2021/10/CIMG0409.jpg
END:VEVENT
END:VCALENDAR