BEGIN:VCALENDAR
VERSION:2.0
PRODID:-//Villaggio del Sole - ECPv5.0.3.1//NONSGML v1.0//EN
CALSCALE:GREGORIAN
METHOD:PUBLISH
X-WR-CALNAME:Villaggio del Sole
X-ORIGINAL-URL:https://www.villaggiodelsole.org
X-WR-CALDESC:Eventi per Villaggio del Sole
BEGIN:VTIMEZONE
TZID:UTC
BEGIN:STANDARD
TZOFFSETFROM:+0000
TZOFFSETTO:+0000
TZNAME:UTC
DTSTART:20210101T000000
END:STANDARD
END:VTIMEZONE
BEGIN:VEVENT
DTSTART;TZID=UTC:20211018T090000
DTEND;TZID=UTC:20211024T190000
DTSTAMP:20260422T095127
CREATED:20211016T224247Z
LAST-MODIFIED:20211024T092951Z
UID:2006-1634547600-1635102000@www.villaggiodelsole.org
SUMMARY:Incontri settimana 18-24 Ottobre 21
DESCRIPTION:\n\n\n\n\nATTIVITA’ ed EVENTI del Gruppo “Liberi Tutti!” della settimana 18-24 OTTOBRE 2021 al Villaggio del sole. Aperti a tutti telefonando per info e prenotazioni al 3207511457 oppure 3669502015.\n\n\n\nLUNEDI: ore 17.30 Meditazione con Francesca; ore 18.30 YOGA Ratna con Francesca (solo yoga 10\, meditazione e yoga 12\, solo meditazione 8.)\n\n\n\nMARTEDI: ore 18.30 Meditazione Kundalini (Osho) GRATUITA e aperta a tutti!\n\n\n\nVENERDI: ore 18.30 Meditazione del cuore (GRATUITA e aperta a tutti); ore 19.30 APERICENA condiviso (ognuno porta qualcosa) GRATUITO + IDROMASSAGGIO CALDO OPEN AIR (GRATUITO) con cromoterapia e aromaterapia per chi lo vuole fare portare accappatoio e ciabatte + Serata con Musica\, canto e chiacchere all night long (GRATUITA).\n\n\n\nSABATO: ore 11.00 TESSUTI con Olivia Staff per ragazzi e bambini (contributo 10 a partecipante).\n\n\n\nDOMENICA: ore 11.00 (bis!) TESSUTI con Olivia Staff per ragazzi e bambini (contributo 10 a partecipante).\n\n\nVi aspettiamo come sempre numerosi\, gioiosi e… LIBERI!!\n\n\n\n\n\n\n\n\n\n\n
URL:https://www.villaggiodelsole.org/evento/incontri-settimana-18-24-ottobre-21/
ATTACH;FMTTYPE=image/jpeg:https://www.villaggiodelsole.org/wp-content/uploads/2021/10/brindisi.jpg
END:VEVENT
END:VCALENDAR