BEGIN:VCALENDAR
VERSION:2.0
PRODID:-//Villaggio del Sole - ECPv5.0.3.1//NONSGML v1.0//EN
CALSCALE:GREGORIAN
METHOD:PUBLISH
X-WR-CALNAME:Villaggio del Sole
X-ORIGINAL-URL:https://www.villaggiodelsole.org
X-WR-CALDESC:Eventi per Villaggio del Sole
BEGIN:VTIMEZONE
TZID:UTC
BEGIN:STANDARD
TZOFFSETFROM:+0000
TZOFFSETTO:+0000
TZNAME:UTC
DTSTART:20210101T000000
END:STANDARD
END:VTIMEZONE
BEGIN:VEVENT
DTSTART;TZID=UTC:20211025T090000
DTEND;TZID=UTC:20211031T190000
DTSTAMP:20260422T095050
CREATED:20211024T092107Z
LAST-MODIFIED:20211024T092928Z
UID:2010-1635152400-1635706800@www.villaggiodelsole.org
SUMMARY:Incontri settimana 25-31 Ottobre
DESCRIPTION:\nATTIVITA’ ed EVENTI del Gruppo “Liberi Tutti!” della settimana 25-31 OTTOBRE 2021 al Villaggio del sole. Aperti a tutti telefonando per info e prenotazioni al 3207511457 oppure 3669502015.\n\n\n\nLUNEDI: ore 17.30 Meditazione con Francesca; ore 18.30 YOGA Ratna con Francesca (solo yoga 10\, meditazione e yoga 12\, solo meditazione 8.)\n\n\n\nMARTEDI: ore 18.30 Meditazione Kundalini (Osho) GRATUITA e aperta a tutti!\n\n\n(Vi ricordiamo che l’apericena condiviso con musica\, disco e idromassaggio caldo open air\, c’è una volta ogni 15 giorni\, quindi il prossimo venerdi 5 novembre\, e sarà preceduto dalla meditazione del cuore)\n
URL:https://www.villaggiodelsole.org/evento/incontri-settimana-25-31-ottobre/
ATTACH;FMTTYPE=image/jpeg:https://www.villaggiodelsole.org/wp-content/uploads/2021/10/meditazione-dinamica.jpg
END:VEVENT
END:VCALENDAR