BEGIN:VCALENDAR
VERSION:2.0
PRODID:-//Villaggio del Sole - ECPv5.0.3.1//NONSGML v1.0//EN
CALSCALE:GREGORIAN
METHOD:PUBLISH
X-WR-CALNAME:Villaggio del Sole
X-ORIGINAL-URL:https://www.villaggiodelsole.org
X-WR-CALDESC:Eventi per Villaggio del Sole
BEGIN:VTIMEZONE
TZID:UTC
BEGIN:STANDARD
TZOFFSETFROM:+0000
TZOFFSETTO:+0000
TZNAME:UTC
DTSTART:20210101T000000
END:STANDARD
END:VTIMEZONE
BEGIN:VEVENT
DTSTART;TZID=UTC:20211004T090000
DTEND;TZID=UTC:20211010T190000
DTSTAMP:20260422T095127
CREATED:20211005T215221Z
LAST-MODIFIED:20211005T215221Z
UID:1995-1633338000-1633892400@www.villaggiodelsole.org
SUMMARY:Incontri Settimana 4-10 Ottobre 21
DESCRIPTION:\n\n\n\n\nATTIVITA’ ed EVENTI della settimana 4-10 OTTOBRE 21 al Villaggio del sole. Aperti a tutti esclusivamente telefonando per info e prenotazioni al 3207511457 oppure 3669502015.\n\n\nLunedì ore 17.30-18.30 Meditazione\, ore 18.30-19.45 yoga Ratna;\n\n\nMartedi ore 18.30 Meditazione Kundalini (Osho);\n\n\nVenerdì ore 18.00-19.30 Lezione di Tessuti (circo) per adulti e bambini con Olivia Staff\, ore 19.30 APERICENA conviviale (ognuno porta qualcosa da mangiare e bere)\, con musica.\n\n\nSabato ore 17.00 Yoga Ratna con Francesca.\n\n\nOgni settimana ci saranno incontri\, meditazioni\, yoga\, e …divertimento\, per essere LIBERI.\nVi aspettiamo numerosi e divertenti!!!\n\n\n\n\n\n
URL:https://www.villaggiodelsole.org/evento/incontri-settimana-4-10-ottobre-21/
ATTACH;FMTTYPE=image/jpeg:https://www.villaggiodelsole.org/wp-content/uploads/2021/10/festa.jpg
END:VEVENT
END:VCALENDAR