BEGIN:VCALENDAR
VERSION:2.0
PRODID:-//Villaggio del Sole - ECPv5.0.3.1//NONSGML v1.0//EN
CALSCALE:GREGORIAN
METHOD:PUBLISH
X-WR-CALNAME:Villaggio del Sole
X-ORIGINAL-URL:https://www.villaggiodelsole.org
X-WR-CALDESC:Eventi per Villaggio del Sole
BEGIN:VTIMEZONE
TZID:UTC
BEGIN:STANDARD
TZOFFSETFROM:+0000
TZOFFSETTO:+0000
TZNAME:UTC
DTSTART:20230101T000000
END:STANDARD
END:VTIMEZONE
BEGIN:VEVENT
DTSTART;TZID=UTC:20230623T100000
DTEND;TZID=UTC:20230625T200000
DTSTAMP:20260419T230619
CREATED:20230507T163226Z
LAST-MODIFIED:20230519T142923Z
UID:2900-1687514400-1687723200@www.villaggiodelsole.org
SUMMARY:Light Tantra Festival
DESCRIPTION:Ospitiamo la prima edizione del Light Tantra Festival\, dal 23 al 25 Giugno 2023. www.lighttantrafestival.it \nInformazioni sul Light Tantra Festival e il coordinamento con il Villaggio del Sole. \nIl 23-24-25 Giugno\, il Villaggio del sole ospiterà la prima edizione del Light Tantra Festival. Chi desidera partecipare all’evento può iscriversi compilando l’apposito modulo sul sito www.lighttantrafestival.it nel quale potete anche trovare il calendario delle attività e gli operatori che le condurranno. Vi informo che i docenti e i partecipanti non sono tutti naturisti\, ma che comunque le attività del Festival che si svolgeranno da vestiti saranno fatte in spazi leggermente decentrati e dedicati\, seppur sempre vicini. Potreste quindi vedere persone vestite\, in camping\, nei bungalow\, nel B&B e negli spazi dove si svolgeranno le sessioni. Vi prego quindi di essere tolleranti\, anche se abbiamo definito con l’organizzazione la regola che in piscina\, nel solarium\, nei terrazzi idromassaggio e al Patio l’accesso è consentito solo stando nudi. Cercheremo di armonizzare la cosa il più possibile\, rimanendo comunque flessibili. Sarà un weekend di gioco\, di sperimentazione\, di meditazione\, di lavoro su se stessi e anche di benessere e vacanza. La partecipazione al Festival è gratuita\, ognuno può lasciare offerte libere e consapevoli agli operatori per ogni singola sessione a cui si partecipa. Grazie a tutti della comprensione e spero molti di voi parteciperanno da protagonisti! \nINFORMIAMO TUTTI I SOCI che per questo wee-end le attività di Acquagym\, Brunch e Karaoke NON CI SARANNO. \n
URL:https://www.villaggiodelsole.org/evento/light-tantra-festival/
ATTACH;FMTTYPE=image/jpeg:https://www.villaggiodelsole.org/wp-content/uploads/2023/05/Light-tantra-festival.jpg
END:VEVENT
END:VCALENDAR