BEGIN:VCALENDAR
VERSION:2.0
PRODID:-//Villaggio del Sole - ECPv5.0.3.1//NONSGML v1.0//EN
CALSCALE:GREGORIAN
METHOD:PUBLISH
X-WR-CALNAME:Villaggio del Sole
X-ORIGINAL-URL:https://www.villaggiodelsole.org
X-WR-CALDESC:Eventi per Villaggio del Sole
BEGIN:VTIMEZONE
TZID:UTC
BEGIN:STANDARD
TZOFFSETFROM:+0000
TZOFFSETTO:+0000
TZNAME:UTC
DTSTART:20220101T000000
END:STANDARD
END:VTIMEZONE
BEGIN:VEVENT
DTSTART;TZID=UTC:20220628T183000
DTEND;TZID=UTC:20220628T203000
DTSTAMP:20260421T230658
CREATED:20220611T092639Z
LAST-MODIFIED:20220611T092639Z
UID:2359-1656441000-1656448200@www.villaggiodelsole.org
SUMMARY:Martedi 28 Giugno - Meditazione e Yoga
DESCRIPTION:Ore 18.30 Meditazione statica\, Ore 19.00 Naked Yoga Info e accrediti al 3669502015 – Offerta Libera \n
URL:https://www.villaggiodelsole.org/evento/martedi-28-giugno-meditazione-e-yoga/
ATTACH;FMTTYPE=image/jpeg:https://www.villaggiodelsole.org/wp-content/uploads/2020/07/film-nat-villaggio3.jpg
END:VEVENT
END:VCALENDAR