BEGIN:VCALENDAR
VERSION:2.0
PRODID:-//Villaggio del Sole - ECPv5.0.3.1//NONSGML v1.0//EN
CALSCALE:GREGORIAN
METHOD:PUBLISH
X-WR-CALNAME:Villaggio del Sole
X-ORIGINAL-URL:https://www.villaggiodelsole.org
X-WR-CALDESC:Eventi per Villaggio del Sole
BEGIN:VTIMEZONE
TZID:UTC
BEGIN:STANDARD
TZOFFSETFROM:+0000
TZOFFSETTO:+0000
TZNAME:UTC
DTSTART:20210101T000000
END:STANDARD
END:VTIMEZONE
BEGIN:VEVENT
DTSTART;TZID=UTC:20210814T090000
DTEND;TZID=UTC:20210815T190000
DTSTAMP:20260423T170619
CREATED:20210708T140402Z
LAST-MODIFIED:20210708T140402Z
UID:1880-1628931600-1629054000@www.villaggiodelsole.org
SUMMARY:Massaggi Naturisti
DESCRIPTION:Goditi la bellezza di un massaggio naturista durante il tuo week-end di relax. a disposizione Ayurvedico\, Californiano\, Bioenergetico\, Antistress e .. tanti altri! \n
URL:https://www.villaggiodelsole.org/evento/massaggi-naturisti-10/
ATTACH;FMTTYPE=image/jpeg:https://www.villaggiodelsole.org/wp-content/uploads/2020/03/9.jpg
END:VEVENT
END:VCALENDAR