BEGIN:VCALENDAR
VERSION:2.0
PRODID:-//Villaggio del Sole - ECPv5.0.3.1//NONSGML v1.0//EN
CALSCALE:GREGORIAN
METHOD:PUBLISH
X-WR-CALNAME:Villaggio del Sole
X-ORIGINAL-URL:https://www.villaggiodelsole.org
X-WR-CALDESC:Eventi per Villaggio del Sole
BEGIN:VTIMEZONE
TZID:UTC
BEGIN:STANDARD
TZOFFSETFROM:+0000
TZOFFSETTO:+0000
TZNAME:UTC
DTSTART:20210101T000000
END:STANDARD
END:VTIMEZONE
BEGIN:VEVENT
DTSTART;TZID=UTC:20210612T090000
DTEND;TZID=UTC:20210613T190000
DTSTAMP:20260424T201835
CREATED:20210601T214629Z
LAST-MODIFIED:20210601T214629Z
UID:1681-1623488400-1623610800@www.villaggiodelsole.org
SUMMARY:Massaggi Naturisti
DESCRIPTION:Per tutto il week-end puoi prenotare il tuo massaggio naturista tra i tanti disponibili. Per l’Area Donna tutti i massaggi su lettino sono promozionati a 55 €\, e su futon a terra a 65 €. Approfittane!! Disponibili anche i massaggi di coppia! Info e prenotazioni al 3207511457 (Davide). \n
URL:https://www.villaggiodelsole.org/evento/massaggi-naturisti-2/
ATTACH;FMTTYPE=image/jpeg:https://www.villaggiodelsole.org/wp-content/uploads/2020/06/massaggio_olistico.jpg
END:VEVENT
END:VCALENDAR