BEGIN:VCALENDAR
VERSION:2.0
PRODID:-//Villaggio del Sole - ECPv5.0.3.1//NONSGML v1.0//EN
CALSCALE:GREGORIAN
METHOD:PUBLISH
X-WR-CALNAME:Villaggio del Sole
X-ORIGINAL-URL:https://www.villaggiodelsole.org
X-WR-CALDESC:Eventi per Villaggio del Sole
BEGIN:VTIMEZONE
TZID:UTC
BEGIN:STANDARD
TZOFFSETFROM:+0000
TZOFFSETTO:+0000
TZNAME:UTC
DTSTART:20200101T000000
END:STANDARD
END:VTIMEZONE
BEGIN:VEVENT
DTSTART;TZID=UTC:20200820T170000
DTEND;TZID=UTC:20200820T180000
DTSTAMP:20260425T040332
CREATED:20200729T110225Z
LAST-MODIFIED:20200729T110225Z
UID:1383-1597942800-1597946400@www.villaggiodelsole.org
SUMMARY:Meditazione dei 5 ritmi
DESCRIPTION:GIOVEDI. Meditazione dei 5 ritmi di Gabrielle Roth con Davide e/o Francesca. Una dinamica per esplorare i cinque movimenti della vita nella loro totalità ed interezza. Conoscere come ci muoviamo e come ci relazioniamo. \n
URL:https://www.villaggiodelsole.org/evento/meditazione-dei-5-ritmi-3/
ATTACH;FMTTYPE=image/jpeg:https://www.villaggiodelsole.org/wp-content/uploads/2020/07/La_danse_I_by_Matisse.jpg
END:VEVENT
END:VCALENDAR