BEGIN:VCALENDAR
VERSION:2.0
PRODID:-//Villaggio del Sole - ECPv5.0.3.1//NONSGML v1.0//EN
CALSCALE:GREGORIAN
METHOD:PUBLISH
X-WR-CALNAME:Villaggio del Sole
X-ORIGINAL-URL:https://www.villaggiodelsole.org
X-WR-CALDESC:Eventi per Villaggio del Sole
BEGIN:VTIMEZONE
TZID:UTC
BEGIN:STANDARD
TZOFFSETFROM:+0000
TZOFFSETTO:+0000
TZNAME:UTC
DTSTART:20210101T000000
END:STANDARD
END:VTIMEZONE
BEGIN:VEVENT
DTSTART;TZID=UTC:20210605T150000
DTEND;TZID=UTC:20210606T170000
DTSTAMP:20260424T215056
CREATED:20210524T165834Z
LAST-MODIFIED:20210524T213746Z
UID:1553-1622905200-1622998800@www.villaggiodelsole.org
SUMMARY:Meditazione del Raggio di Luce
DESCRIPTION:SABATO e DOMENICA. Dalle 15.00 alle 17.00. Meditazione con visualizzazione guidata alla ricerca del tuo raggio di luce. Scopri l’insegnamento che si cela dietro alla frequenza del tuo personale raggio di luce e la sfida evolutiva attraverso cui la tua anima vuole condurti*. \n*(minimo 3 partecipanti iscritti\, durata 2 ore\, costo 20 € a persona). \n
URL:https://www.villaggiodelsole.org/evento/meditazione-del-raggio-di-luce-2/
ATTACH;FMTTYPE=image/jpeg:https://www.villaggiodelsole.org/wp-content/uploads/2021/05/sole.jpg
END:VEVENT
END:VCALENDAR