BEGIN:VCALENDAR
VERSION:2.0
PRODID:-//Villaggio del Sole - ECPv5.0.3.1//NONSGML v1.0//EN
CALSCALE:GREGORIAN
METHOD:PUBLISH
X-WR-CALNAME:Villaggio del Sole
X-ORIGINAL-URL:https://www.villaggiodelsole.org
X-WR-CALDESC:Eventi per Villaggio del Sole
BEGIN:VTIMEZONE
TZID:UTC
BEGIN:STANDARD
TZOFFSETFROM:+0000
TZOFFSETTO:+0000
TZNAME:UTC
DTSTART:20200101T000000
END:STANDARD
END:VTIMEZONE
BEGIN:VEVENT
DTSTART;TZID=UTC:20200828T170000
DTEND;TZID=UTC:20200828T180000
DTSTAMP:20260425T010427
CREATED:20200729T125258Z
LAST-MODIFIED:20200729T125258Z
UID:1416-1598634000-1598637600@www.villaggiodelsole.org
SUMMARY:Meditazione Kundalini o Danza Tandava
DESCRIPTION:VENERDI. Meditazione Kundalini o Danza Tandava con Davide e/o Francesca nel pomeriggio. \n
URL:https://www.villaggiodelsole.org/evento/meditazione-kundalini-o-danza-tandava/
ATTACH;FMTTYPE=image/jpeg:https://www.villaggiodelsole.org/wp-content/uploads/2020/07/danza-nuda-gruppo2.jpg
END:VEVENT
END:VCALENDAR