BEGIN:VCALENDAR
VERSION:2.0
PRODID:-//Villaggio del Sole - ECPv5.0.3.1//NONSGML v1.0//EN
CALSCALE:GREGORIAN
METHOD:PUBLISH
X-WR-CALNAME:Villaggio del Sole
X-ORIGINAL-URL:https://www.villaggiodelsole.org
X-WR-CALDESC:Eventi per Villaggio del Sole
BEGIN:VTIMEZONE
TZID:UTC
BEGIN:STANDARD
TZOFFSETFROM:+0000
TZOFFSETTO:+0000
TZNAME:UTC
DTSTART:20220101T000000
END:STANDARD
END:VTIMEZONE
BEGIN:VEVENT
DTSTART;TZID=UTC:20220813T190000
DTEND;TZID=UTC:20220813T230000
DTSTAMP:20260420T152017
CREATED:20220719T120933Z
LAST-MODIFIED:20220808T174033Z
UID:2517-1660417200-1660431600@www.villaggiodelsole.org
SUMMARY:Sabato 13 Agosto APERIVI-AMO! Aperitivo      con Music Karaoke Pub
DESCRIPTION:Ore 19.00 Aperitivo al Patio con Caipirinha\, Spritz\, Chardonnay e stuzzichini offerto da AssoNatura a tutti i presenti e a seguire festicciola al Patio Pub\, con KARAOKE\, musica e intrattenimento improvvisato!!! – Termine alle ore 23.00 \n
URL:https://www.villaggiodelsole.org/evento/music-karaoke-disco-pub-sabato-13-agosto/
ATTACH;FMTTYPE=image/jpeg:https://www.villaggiodelsole.org/wp-content/uploads/2021/10/festa.jpg
END:VEVENT
END:VCALENDAR