BEGIN:VCALENDAR
VERSION:2.0
PRODID:-//Villaggio del Sole - ECPv5.0.3.1//NONSGML v1.0//EN
CALSCALE:GREGORIAN
METHOD:PUBLISH
X-WR-CALNAME:Villaggio del Sole
X-ORIGINAL-URL:https://www.villaggiodelsole.org
X-WR-CALDESC:Eventi per Villaggio del Sole
BEGIN:VTIMEZONE
TZID:UTC
BEGIN:STANDARD
TZOFFSETFROM:+0000
TZOFFSETTO:+0000
TZNAME:UTC
DTSTART:20200101T000000
END:STANDARD
END:VTIMEZONE
BEGIN:VEVENT
DTSTART;TZID=UTC:20200627T170000
DTEND;TZID=UTC:20200627T180000
DTSTAMP:20260419T233306
CREATED:20200623T171534Z
LAST-MODIFIED:20200623T171534Z
UID:1190-1593277200-1593280800@www.villaggiodelsole.org
SUMMARY:Naked Yoga
DESCRIPTION:Lezione di Naked Yoga con Francesca. Durata 1 ora e 15 minuti. Contributo 5 €. \n
URL:https://www.villaggiodelsole.org/evento/naked-yoga-3/
ATTACH;FMTTYPE=image/jpeg:https://www.villaggiodelsole.org/wp-content/uploads/2020/06/naked-yoga03.jpg
END:VEVENT
END:VCALENDAR